Workbook

Sheet Clients
A1: Client | B1: Project | C1: Stage | D1: Quote | E1: Deposit paid | F1: Invoiced | G1: Paid after deposit | H1: Balance due | I1: Due date | J1: Days overdue
A2: Maple Dental | B2: Photo shoot | C2: In progress | D2: 600 | E2: 180 | F2: 0 | G2: 0 | H2: =IF(F2>0,F2-E2-G2,0) | I2: =DATE(2026,10,9) | J2: =IF(AND(H2>0,TODAY()>I2),TODAY()-I2,"")
A3: Riverside Yoga | B3: Monthly retainer | C3: Delivered | D3: 350 | E3: 105 | F3: 350 | G3: 0 | H3: =IF(F3>0,F3-E3-G3,0) | I3: =DATE(2026,10,11) | J3: =IF(AND(H3>0,TODAY()>I3),TODAY()-I3,"")
A4: J. Ortiz (wedding) | B4: Logo | C4: Paid | D4: 1200 | E4: 360 | F4: 1200 | G4: 840 | H4: =IF(F4>0,F4-E4-G4,0) | I4: =DATE(2026,10,13) | J4: =IF(AND(H4>0,TODAY()>I4),TODAY()-I4,"")
A5: Northside Bakery | B5: Website | C5: Lead | D5: 350 | E5: 0 | F5: 0 | G5: 0 | H5: =IF(F5>0,F5-E5-G5,0) | I5: =DATE(2026,10,15) | J5: =IF(AND(H5>0,TODAY()>I5),TODAY()-I5,"")
A6: Bluebird Realty | B6: Monthly retainer | C6: Quoted | D6: 350 | E6: 105 | F6: 0 | G6: 0 | H6: =IF(F6>0,F6-E6-G6,0) | I6: =DATE(2026,10,17) | J6: =IF(AND(H6>0,TODAY()>I6),TODAY()-I6,"")
A7: Harbor Auto | B7: Photo shoot | C7: In progress | D7: 1800 | E7: 540 | F7: 0 | G7: 0 | H7: =IF(F7>0,F7-E7-G7,0) | I7: =DATE(2026,10,19) | J7: =IF(AND(H7>0,TODAY()>I7),TODAY()-I7,"")
A8: K. Lin (portraits) | B8: Logo | C8: Delivered | D8: 350 | E8: 105 | F8: 350 | G8: 0 | H8: =IF(F8>0,F8-E8-G8,0) | I8: =DATE(2026,10,21) | J8: =IF(AND(H8>0,TODAY()>I8),TODAY()-I8,"")
A9: Summit CPA | B9: Brochure | C9: Paid | D9: 1800 | E9: 540 | F9: 1800 | G9: 1260 | H9: =IF(F9>0,F9-E9-G9,0) | I9: =DATE(2026,10,23) | J9: =IF(AND(H9>0,TODAY()>I9),TODAY()-I9,"")

Sheet Dashboard
A1: Stage | B1: Clients | C1: Pipeline value
A2: Lead | B2: =COUNTIF(Clients!C:C,A2) | C2: =SUMIF(Clients!C:C,A2,Clients!D:D) | E2: Total owed to you | F2: =SUM(Clients!H:H)
A3: Quoted | B3: =COUNTIF(Clients!C:C,A3) | C3: =SUMIF(Clients!C:C,A3,Clients!D:D) | E3: Overdue invoices | F3: =COUNTIF(Clients!J:J,">0")
A4: In progress | B4: =COUNTIF(Clients!C:C,A4) | C4: =SUMIF(Clients!C:C,A4,Clients!D:D)
A5: Delivered | B5: =COUNTIF(Clients!C:C,A5) | C5: =SUMIF(Clients!C:C,A5,Clients!D:D)
A6: Paid | B6: =COUNTIF(Clients!C:C,A6) | C6: =SUMIF(Clients!C:C,A6,Clients!D:D)
